BEGIN:VCALENDAR
VERSION:2.0
PRODID:-//4R Nutrient Stewardship Certification - ECPv6.15.20//NONSGML v1.0//EN
CALSCALE:GREGORIAN
METHOD:PUBLISH
X-ORIGINAL-URL:https://4rcertified.org
X-WR-CALDESC:Events for 4R Nutrient Stewardship Certification
REFRESH-INTERVAL;VALUE=DURATION:PT1H
X-Robots-Tag:noindex
X-PUBLISHED-TTL:PT1H
BEGIN:VTIMEZONE
TZID:America/New_York
BEGIN:DAYLIGHT
TZOFFSETFROM:-0500
TZOFFSETTO:-0400
TZNAME:EDT
DTSTART:20190310T070000
END:DAYLIGHT
BEGIN:STANDARD
TZOFFSETFROM:-0400
TZOFFSETTO:-0500
TZNAME:EST
DTSTART:20191103T060000
END:STANDARD
BEGIN:DAYLIGHT
TZOFFSETFROM:-0500
TZOFFSETTO:-0400
TZNAME:EDT
DTSTART:20200308T070000
END:DAYLIGHT
BEGIN:STANDARD
TZOFFSETFROM:-0400
TZOFFSETTO:-0500
TZNAME:EST
DTSTART:20201101T060000
END:STANDARD
BEGIN:DAYLIGHT
TZOFFSETFROM:-0500
TZOFFSETTO:-0400
TZNAME:EDT
DTSTART:20210314T070000
END:DAYLIGHT
BEGIN:STANDARD
TZOFFSETFROM:-0400
TZOFFSETTO:-0500
TZNAME:EST
DTSTART:20211107T060000
END:STANDARD
END:VTIMEZONE
BEGIN:VEVENT
DTSTART;VALUE=DATE:20201104
DTEND;VALUE=DATE:20201107
DTSTAMP:20260423T174843
CREATED:20200619T145528Z
LAST-MODIFIED:20200619T145721Z
UID:2911-1604448000-1604707199@4rcertified.org
SUMMARY:T3 Fertilizer Conference – Trends\, Technology\, and Transportation
DESCRIPTION:This new industry event\, T3 Fertilizer Conference – Trends\, Technology\, and Transportation\, combines the best of the North American Fertilizer Transportation Conference (NAFTC) and Fertilizer Outlook and Technology Conference (FOTC) to help industry professionals gain a deeper understanding of all the factors driving fertilizer supply\, demand\, and its supply chain – along with the latest in fertilizer technology innovations.
URL:https://4rcertified.org/event/t3-fertilizer-conference-2020-2021/
LOCATION:PGA National Resort & Spa\, PGA Boulevard\, 400 Ave of the Champions\, Palm Beach Gardens\, FL\, 33418\, United States
CATEGORIES:Florida,Global
ATTACH;FMTTYPE=image/png:https://4rcertified.org/wp-content/uploads/2020/03/T3FertilizerConference-1.png
END:VEVENT
END:VCALENDAR