BEGIN:VCALENDAR
VERSION:2.0
PRODID:-//4R Nutrient Stewardship Certification - ECPv6.15.20//NONSGML v1.0//EN
CALSCALE:GREGORIAN
METHOD:PUBLISH
X-ORIGINAL-URL:https://4rcertified.org
X-WR-CALDESC:Events for 4R Nutrient Stewardship Certification
REFRESH-INTERVAL;VALUE=DURATION:PT1H
X-Robots-Tag:noindex
X-PUBLISHED-TTL:PT1H
BEGIN:VTIMEZONE
TZID:America/New_York
BEGIN:DAYLIGHT
TZOFFSETFROM:-0500
TZOFFSETTO:-0400
TZNAME:EDT
DTSTART:20210314T070000
END:DAYLIGHT
BEGIN:STANDARD
TZOFFSETFROM:-0400
TZOFFSETTO:-0500
TZNAME:EST
DTSTART:20211107T060000
END:STANDARD
BEGIN:DAYLIGHT
TZOFFSETFROM:-0500
TZOFFSETTO:-0400
TZNAME:EDT
DTSTART:20220313T070000
END:DAYLIGHT
BEGIN:STANDARD
TZOFFSETFROM:-0400
TZOFFSETTO:-0500
TZNAME:EST
DTSTART:20221106T060000
END:STANDARD
BEGIN:DAYLIGHT
TZOFFSETFROM:-0500
TZOFFSETTO:-0400
TZNAME:EDT
DTSTART:20230312T070000
END:DAYLIGHT
BEGIN:STANDARD
TZOFFSETFROM:-0400
TZOFFSETTO:-0500
TZNAME:EST
DTSTART:20231105T060000
END:STANDARD
BEGIN:DAYLIGHT
TZOFFSETFROM:-0500
TZOFFSETTO:-0400
TZNAME:EDT
DTSTART:20240310T070000
END:DAYLIGHT
BEGIN:STANDARD
TZOFFSETFROM:-0400
TZOFFSETTO:-0500
TZNAME:EST
DTSTART:20241103T060000
END:STANDARD
BEGIN:DAYLIGHT
TZOFFSETFROM:-0500
TZOFFSETTO:-0400
TZNAME:EDT
DTSTART:20250309T070000
END:DAYLIGHT
BEGIN:STANDARD
TZOFFSETFROM:-0400
TZOFFSETTO:-0500
TZNAME:EST
DTSTART:20251102T060000
END:STANDARD
END:VTIMEZONE
BEGIN:VEVENT
DTSTART;VALUE=DATE:20240916
DTEND;VALUE=DATE:20240919
DTSTAMP:20260423T144600
CREATED:20200630T142241Z
LAST-MODIFIED:20200630T142241Z
UID:2933-1726444800-1726703999@4rcertified.org
SUMMARY:The Fertilizer Institute World Fertilizer Conference 2024
DESCRIPTION:TFI’s World Fertilizer Conference draws over 700 delegates from as many as 60 different countries that represent all sectors of the fertilizer industry. \nThe fall conference will continue our discussion of disruption in the fertilizer industry. From the impact of the conversation around the Green New Deal\, to the risk of Climate Change and related policy\, TFI is filling the agenda with an opportunity for compelling conversation among all delegates. \nThe popular Networking Lounge will open on Monday through Wednesday providing additional space for delegates to conduct business\, continue to network with new delegates or take a quick coffee break between meetings.
URL:https://4rcertified.org/event/the-fertilizer-institute-world-fertilizer-conference-2024/
LOCATION:Sheraton Dallas\, TX\, 400 N Olive St\, Dallas\, TX\, 75201\, United States
CATEGORIES:Global
ATTACH;FMTTYPE=image/jpeg:https://4rcertified.org/wp-content/uploads/2020/03/WorldFertilizerConference.jpg
END:VEVENT
BEGIN:VEVENT
DTSTART;VALUE=DATE:20220912
DTEND;VALUE=DATE:20220913
DTSTAMP:20260423T144600
CREATED:20200630T141340Z
LAST-MODIFIED:20200630T141623Z
UID:2926-1662940800-1663027199@4rcertified.org
SUMMARY:The Fertilizer Institute World Fertilizer Conference 2022
DESCRIPTION:TFI’s World Fertilizer Conference draws over 700 delegates from as many as 60 different countries that represent all sectors of the fertilizer industry. \nThe fall conference will continue our discussion of disruption in the fertilizer industry. From the impact of the conversation around the Green New Deal\, to the risk of Climate Change and related policy\, TFI is filling the agenda with an opportunity for compelling conversation among all delegates. \nThe popular Networking Lounge will open on Monday through Wednesday providing additional space for delegates to conduct business\, continue to network with new delegates or take a quick coffee break between meetings.
URL:https://4rcertified.org/event/the-fertilizer-institute-world-fertilizer-conference-2022/
LOCATION:Sheraton Dallas\, TX\, 400 N Olive St\, Dallas\, TX\, 75201\, United States
CATEGORIES:Global
ATTACH;FMTTYPE=image/jpeg:https://4rcertified.org/wp-content/uploads/2020/03/WorldFertilizerConference.jpg
END:VEVENT
END:VCALENDAR